BEGIN:VCALENDAR
VERSION:2.0
PRODID:-//CFCIA - ECPv6.15.20//NONSGML v1.0//EN
CALSCALE:GREGORIAN
METHOD:PUBLISH
X-WR-CALNAME:CFCIA
X-ORIGINAL-URL:https://cfcia.net
X-WR-CALDESC:Events for CFCIA
REFRESH-INTERVAL;VALUE=DURATION:PT1H
X-Robots-Tag:noindex
X-PUBLISHED-TTL:PT1H
BEGIN:VTIMEZONE
TZID:UTC
BEGIN:STANDARD
TZOFFSETFROM:+0000
TZOFFSETTO:+0000
TZNAME:UTC
DTSTART:20230101T000000
END:STANDARD
END:VTIMEZONE
BEGIN:VEVENT
DTSTART;TZID=UTC:20250505T090000
DTEND;TZID=UTC:20250505T160000
DTSTAMP:20260422T225739
CREATED:20250410T110003Z
LAST-MODIFIED:20250410T184209Z
UID:508-1746435600-1746460800@cfcia.net
SUMMARY:CFCIA 2025 Conference
DESCRIPTION:CFCIA 2025 \nPlease joint us at the CFCIA 2025 Conference at the Pechanga Resort. \n \nTo register click here. \n \n  \nYou may also take your CFI test 8-9AM for $40.00\, click here. \n \n  \n \nSee you at the conference. \nThank you\,
URL:https://cfcia.net/event/cfcia-2025-conference/
LOCATION:Pechanga Resort-Temecula\, CA\, 45000 Pechanga Parkway\, Temecula\, CA\, 92592\, United States
ORGANIZER;CN="Laura Larson":MAILTO:llarson@calprivate.bank
END:VEVENT
BEGIN:VEVENT
DTSTART;TZID=UTC:20240506T090000
DTEND;TZID=UTC:20240506T160000
DTSTAMP:20260422T225739
CREATED:20240410T152512Z
LAST-MODIFIED:20240410T153239Z
UID:463-1714986000-1715011200@cfcia.net
SUMMARY:11th Annual CFCIA San Diego Division Conference
DESCRIPTION:CFI Exam will be held at 8:30 am \nPechanga Resort-Temecula\, CA \nRegistration $100 \nSpeakers joining us include: Anna Winn-SDDA\, Christopher Christopherson-FBI Cyber Crime\, Kevin Mokhtari-USACAS\, Chris Groshong-CoinStructive\, Jason Powell-IRS-CI.
URL:https://cfcia.net/event/11th-annual-cfcia-san-diego-division-conference/
LOCATION:Pechanga Resort-Temecula\, CA\, 45000 Pechanga Parkway\, Temecula\, CA\, 92592\, United States
END:VEVENT
END:VCALENDAR