BEGIN:VCALENDAR
VERSION:2.0
PRODID:-//CFCIA - ECPv6.15.20//NONSGML v1.0//EN
CALSCALE:GREGORIAN
METHOD:PUBLISH
X-WR-CALNAME:CFCIA
X-ORIGINAL-URL:https://cfcia.net
X-WR-CALDESC:Events for CFCIA
REFRESH-INTERVAL;VALUE=DURATION:PT1H
X-Robots-Tag:noindex
X-PUBLISHED-TTL:PT1H
BEGIN:VTIMEZONE
TZID:UTC
BEGIN:STANDARD
TZOFFSETFROM:+0000
TZOFFSETTO:+0000
TZNAME:UTC
DTSTART:20250101T000000
END:STANDARD
END:VTIMEZONE
BEGIN:VEVENT
DTSTART;TZID=UTC:20260317T200500
DTEND;TZID=UTC:20260317T200500
DTSTAMP:20260422T225718
CREATED:20260316T120022Z
LAST-MODIFIED:20260317T201035Z
UID:1687-1773777900-1773777900@cfcia.net
SUMMARY:CFCIA - 2026 Annual Conference
DESCRIPTION:San Diego Division\nCFCIA Annual Forum \nMay 4\, 2026– 9:00 am to 4:00 pm \nNew Location: \nPala Mesa Resort \n(2001 Old Hwy 395\, Fallbrook\, CA 92028) \nEarly Bird Pricing: $100.00 \nOnly valid between March 17 – March 31\nRegister Today! \nRegular Price: April 1-April 25\n$125.00 \nContact: cfciasandiego@gmail.com
URL:https://cfcia.net/event/cfcia-2026-annual-conference/
LOCATION:Pala Mesa Resort\, 2001 Old Hwy 395\, Fallbrook\, CA\, 92028
ORGANIZER;CN="Laura Larson":MAILTO:llarson@calprivate.bank
END:VEVENT
END:VCALENDAR